View In:
ArcGIS JavaScript
ArcGIS Online Map Viewer
ArcGIS Earth
ArcGIS Pro
Service Description: <div style='text-align:Left;'><div><div><p><span>2026 3 inch Color Imagery of Dekalb County Alabama. Source is E:\AL_Dekalb_Imagery_2026\AL_Dekalb_Imagery_2026.gdb, COLOR_2026_3in raster dataset. Which was generated from 3 inch SIDs.</span></p></div></div></div>
Map Name: AL_Dekalb_Imagery_2026
Legend
All Layers and Tables
Layers:
Description: 2026 3 inch Color Imagery of Dekalb County Alabama. Source is E:\AL_Dekalb_Imagery_2026\AL_Dekalb_Imagery_2026.gdb, COLOR_2026_3in raster dataset. Which was generated from 3 inch SIDs.
Service Item Id: a8cdc5800a5b46819e40670e851819c0
Copyright Text: KCS
Spatial Reference:
102100
(3857)
LatestVCSWkid(0)
Single Fused Map Cache: true
Tile Info:
- Height: 256.0
- Width: 256.0
- DPI: 96.0
-
Levels of Detail: 24
-
Level ID: 1
[ Start Tile, End Tile ]
- Resolution: 78271.5169639999
- Scale: 2.95828763795777E8
-
Level ID: 2
[ Start Tile, End Tile ]
- Resolution: 39135.7584820001
- Scale: 1.47914381897889E8
-
Level ID: 3
[ Start Tile, End Tile ]
- Resolution: 19567.8792409999
- Scale: 7.3957190948944E7
-
Level ID: 4
[ Start Tile, End Tile ]
- Resolution: 9783.93962049996
- Scale: 3.6978595474472E7
-
Level ID: 5
[ Start Tile, End Tile ]
- Resolution: 4891.96981024998
- Scale: 1.8489297737236E7
- Format: Mixed
- Compression Quality: 75.0
- Origin: X: -2.0037508342787E7
Y: 2.0037508342787E7
- Spatial Reference: 102100
(3857)
LatestVCSWkid(0)
Storage Info:
- Storage Format: esriMapCacheStorageModeCompactV2
- Packet Size: 128
Initial Extent:
XMin: -9634466.194231922
YMin: 4051083.5186286233
XMax: -9471521.655816073
YMax: 4149474.424385773
Spatial Reference: 102100
(3857)
LatestVCSWkid(0)
Full Extent:
XMin: -9586696.011234934
YMin: 4055609.9148013475
XMax: -9519291.83881306
YMax: 4144948.0282130484
Spatial Reference: 102100
(3857)
LatestVCSWkid(0)
Units: esriMeters
Supported Image Format Types: PNG32,PNG24,PNG,JPG,DIB,TIFF,EMF,PS,PDF,GIF,SVG,SVGZ,BMP
Document Info:
Title: AL_Dekalb_Imagery_2026
Author:
Comments: 2026 3 inch Color Imagery of Dekalb County Alabama. Source is AL_Dekalb_Imagery_2026.gdb,
COLOR_2026_3in raster dataset. Which was generated from 3 inch SIDs.
Subject: 2026 3 inch Color Imagery of Dekalb County Alabama
Category:
Keywords: Dekalb,Alabama,Imagery,2026
AntialiasingMode: Fast
TextAntialiasingMode: Force
Supports Dynamic Layers: false
MaxRecordCount: 2000
MaxSelectionCount: 2000
MaxImageHeight: 4096
MaxImageWidth: 4096
Supported Query Formats: JSON, geoJSON, PBF
Supports Query Data Elements: true
Min Scale: 5.91657527591555E8
Max Scale: 70.5310735
Supports Datum Transformation: true
Child Resources:
Info
Supported Operations:
Export Map
QueryLegends
Return Updates